BEGIN:VCALENDAR
VERSION:2.0
PRODID:-// - ECPv5.3.0//NONSGML v1.0//EN
CALSCALE:GREGORIAN
METHOD:PUBLISH
X-ORIGINAL-URL:https://www.downtowncaloundra.com.au
X-WR-CALDESC:Events for 
BEGIN:VTIMEZONE
TZID:Australia/Melbourne
BEGIN:STANDARD
TZOFFSETFROM:+1100
TZOFFSETTO:+1000
TZNAME:AEST
DTSTART:20210403T160000
END:STANDARD
BEGIN:DAYLIGHT
TZOFFSETFROM:+1000
TZOFFSETTO:+1100
TZNAME:AEDT
DTSTART:20211002T160000
END:DAYLIGHT
END:VTIMEZONE
BEGIN:VEVENT
DTSTART;TZID=Australia/Melbourne:20210305T123000
DTEND;TZID=Australia/Melbourne:20210306T190000
DTSTAMP:20210301T063504
CREATED:20210120T025153Z
LAST-MODIFIED:20210120T025153Z
UID:6952-1614947400-1615057200@www.downtowncaloundra.com.au
SUMMARY:The 91-Storey Treehouse
DESCRIPTION:A play by Richard Tulloch \nAdapted from the book by Andy Griffiths and Terry Denton \nAndy and Terry’s Treehouse has reached an amazing 91 Stories! It’s now more fantastically dangerous than ever\, with a deserted desert island\, a whirlpool\, and a giant spider! \nBut Andy\, Terry and Jill have no idea they’re about to face their biggest challenge yet! Mr Big Nose has sent his grandchildren to the Treehouse\, and they don’t want to just sit quietly. Can Andy\, Terry & Jill master this extreme babysitting challenge? What does mysterious fortune teller Madam Know-It-All really want? And will the Big Red Button really destroy the world? \nThe team behind the 13-\, 26-\, 52- and 78-Storey Treehouses Live on Stage return with a fantastical trip through this wild\, weird and wonderful world for children 6-12 and their adults. Just beware of the Fortune Teller… \nFollow The Events Centre! Facebook | Instagram
URL:https://www.downtowncaloundra.com.au/event/the-91-storey-treehouse-2/
LOCATION:The Events Centre\, Caloundra\, 20 Minchinton Street\, Caloundra\, QLD\, 4551\, Australia
CATEGORIES:Children,Show,Special interest,Theatre
ATTACH;FMTTYPE=image/jpeg:https://www.downtowncaloundra.com.au/wp-content/uploads/2021/01/91-Storey-Treehouse-A4-Landscape-scaled.jpg
END:VEVENT
BEGIN:VEVENT
DTSTART;TZID=Australia/Melbourne:20210313T140000
DTEND;TZID=Australia/Melbourne:20210314T153000
DTSTAMP:20210301T063504
CREATED:20210120T025602Z
LAST-MODIFIED:20210120T025602Z
UID:6955-1615644000-1615735800@www.downtowncaloundra.com.au
SUMMARY:Margaret Fulton The Musical
DESCRIPTION:A musical biography of a true Aussie legend based on her bestselling autobiography. \nMargaret Fulton reigned supreme on our country’s cooking scene\, awarded an OAM in 1983 and later identified as a National Living Treasure. The Margaret Fulton Cookbook encouraged Australian housewives to experiment with more interesting ingredients\, straying from the old tradition of meat and three veg. \nThis delightful musical romp follows her journey from humble beginnings to super-stardom. \nFollow The Events Centre! Facebook | Instagram
URL:https://www.downtowncaloundra.com.au/event/margaret-fulton-the-musical/
LOCATION:The Events Centre\, Caloundra\, 20 Minchinton Street\, Caloundra\, QLD\, 4551\, Australia
CATEGORIES:Dance,Music,Musical,Show,Special interest,Theatre
ATTACH;FMTTYPE=image/jpeg:https://www.downtowncaloundra.com.au/wp-content/uploads/2021/01/Hero-scaled.jpg
END:VEVENT
BEGIN:VEVENT
DTSTART;TZID=Australia/Melbourne:20210313T200000
DTEND;TZID=Australia/Melbourne:20210313T223000
DTSTAMP:20210301T063504
CREATED:20210120T025909Z
LAST-MODIFIED:20210120T030426Z
UID:6958-1615665600-1615674600@www.downtowncaloundra.com.au
SUMMARY:3 Legends In Concert - Normie Rowe\, Dinah Lee & Jade Hurley
DESCRIPTION:NORMIE ROWE AM was Australia’s first King of Pop with hits including “Shakin’ All Over”\, “Ohh La La” and “It Ain’t Necessarily So” and starred in a myriad of stage shows including “Annie”\, “Chess” \,“Evita” and as Jean Valjean in “Les Miserable” . He has done it all. \nDINAH LEE (the Queen of the mods) is a New Zealand born singer with hits including “Don’t You Know Yockomo”\, “Reet Petite” and “Do The Blue Beat” and is acknowledged as New Zealand’s greatest musical import to Australia. \nJADE HURLEY OAM dubbed by Johnny O’Keefe as Australia’s King of Country Rock is Australia’s very own Piano Man with the unique record that every record he has release has achieved gold\, platinum and double platinum status. \nFollow The Events Centre! Facebook | Instagram
URL:https://www.downtowncaloundra.com.au/event/3-legends-in-concert-normie-rowe-dinah-lee-jade-hurley/
LOCATION:The Events Centre\, Caloundra\, 20 Minchinton Street\, Caloundra\, QLD\, 4551\, Australia
CATEGORIES:Music,Show,Special interest,Theatre
ATTACH;FMTTYPE=image/jpeg:https://www.downtowncaloundra.com.au/wp-content/uploads/2021/01/Coverphoto.jpg
END:VEVENT
BEGIN:VEVENT
DTSTART;TZID=Australia/Melbourne:20210324T180000
DTEND;TZID=Australia/Melbourne:20210325T130000
DTSTAMP:20210301T063504
CREATED:20210120T030737Z
LAST-MODIFIED:20210120T030737Z
UID:6965-1616608800-1616677200@www.downtowncaloundra.com.au
SUMMARY:The Very Hungry Caterpillar
DESCRIPTION:One of the most-read and famous children’s books of all time\, The Very Hungry Caterpillar emerges off the page in a masterful theatrical experience for children 18 months+ and their adults. \nCreated by Jonathan Rockefeller\, the production features a menagerie of over 75 magical puppets\, including the star of the show – The Very Hungry Caterpillar – and an Australian cast who bring these beloved books to life on stage. \nAlongside The Very Hungry Caterpillar\, the show features three other Eric Carle stories\, including Brown Bear\, Brown Bear\, What Do You See? \nThe team behind the Australian tours of The Gruffalo\, Spot\, and The 13\, 26\, 52\, 78 & 91-Storey Treehouses will excite\, educate and entertain new readers and first-time theatre-goers\, while those who grew up with these books will delight in experiencing one of the most popular children’s books ever written. Don’t miss out! \nFollow The Events Centre! Facebook | Instagram
URL:https://www.downtowncaloundra.com.au/event/the-very-hungry-caterpillar/
LOCATION:The Events Centre\, Caloundra\, 20 Minchinton Street\, Caloundra\, QLD\, 4551\, Australia
CATEGORIES:Children,Show,Special interest,Theatre
ATTACH;FMTTYPE=image/png:https://www.downtowncaloundra.com.au/wp-content/uploads/2021/01/HungryCaterpillar-Image.png
END:VEVENT
BEGIN:VEVENT
DTSTART;TZID=Australia/Melbourne:20210327T193000
DTEND;TZID=Australia/Melbourne:20210327T213000
DTSTAMP:20210301T063504
CREATED:20210120T031303Z
LAST-MODIFIED:20210120T031303Z
UID:6968-1616873400-1616880600@www.downtowncaloundra.com.au
SUMMARY:Melinda Schneider - A Farewell To Doris
DESCRIPTION:Following the recent passing of the legendary Doris Day\, acclaimed Australian singer Melinda Schneider pays tribute to her childhood idol in A Farewell To Doris\, performing all of Doris’ timeless hits\, including Que Sera\, Sera\, Sentimental Journey\, Everybody Loves a Lover and Secret Love. A nostalgic concert celebration of a remarkable life. \nFollow The Events Centre! Facebook | Instagram
URL:https://www.downtowncaloundra.com.au/event/melinda-schneider-a-farewell-to-doris/
LOCATION:The Events Centre\, Caloundra\, 20 Minchinton Street\, Caloundra\, QLD\, 4551\, Australia
CATEGORIES:Music,Other,Show,Special interest,Theatre
ATTACH;FMTTYPE=image/jpeg:https://www.downtowncaloundra.com.au/wp-content/uploads/2021/01/Melinda-SchneiderHigh-Res.jpg
END:VEVENT
BEGIN:VEVENT
DTSTART;TZID=Australia/Melbourne:20210413T100000
DTEND;TZID=Australia/Melbourne:20210413T150000
DTSTAMP:20210301T063504
CREATED:20210120T031632Z
LAST-MODIFIED:20210120T031632Z
UID:6971-1618308000-1618326000@www.downtowncaloundra.com.au
SUMMARY:Bluey's Big Play
DESCRIPTION:When Dad feels like a little bit of Sunday arvo time out\, Bluey and Bingo have other plans! Join them as they pull out all of the games and ingenuity at their disposal to get Dad off that bean bag. \nBluey’s Big Play is a brand new theatrical adaptation of the Emmy® award-winning children’s television series\, with an original story by Bluey’s creator Joe Brumm\, and new music by Brisbane’s Beethoven and Bluey composer\, Joff Bush. \nJoin The Heelers in their first live theatre show made just for you\, featuring brilliantly created puppets\, this is Bluey as you’ve never seen it before\, brought to real life! \nFollow The Events Centre! Facebook | Instagram
URL:https://www.downtowncaloundra.com.au/event/blueys-big-play/
LOCATION:The Events Centre\, Caloundra\, 20 Minchinton Street\, Caloundra\, QLD\, 4551\, Australia
CATEGORIES:Children,Other,Show,Special interest,Theatre
ATTACH;FMTTYPE=image/jpeg:https://www.downtowncaloundra.com.au/wp-content/uploads/2021/01/435x435.jpg
END:VEVENT
BEGIN:VEVENT
DTSTART;TZID=Australia/Melbourne:20210626T190000
DTEND;TZID=Australia/Melbourne:20210626T220000
DTSTAMP:20210301T063504
CREATED:20201105T022317Z
LAST-MODIFIED:20201105T022317Z
UID:6846-1624734000-1624744800@www.downtowncaloundra.com.au
SUMMARY:ANTHONY CALLEA
DESCRIPTION:ARIA Award-winner Anthony Callea is excited to be hitting the road again in 2021 for his ‘Together Again’ Tour performing The Events Centre (TEC)\, Caloundra on Saturday 26 June 2021. \nWith a career spanning over 16 years and 7 hit albums\, Anthony Callea is undoubtedly one of Australia’s finest entertainers and the ARIA Award-winner will take to the stage with his full band and deliver a truly spectacular LIVE music experience. \n“Music is a universal language\, it brings people together and evokes emotion. My heart and thoughts go out to people and families who have been affected directly whether it has been losing a loved one or their job/business. Music not only brings people together\, but is healing\, joyous and allows us to escape” says Anthony.
URL:https://www.downtowncaloundra.com.au/event/anthony-callea/
LOCATION:The Events Centre\, Caloundra\, 20 Minchinton Street\, Caloundra\, QLD\, 4551\, Australia
CATEGORIES:Music
ATTACH;FMTTYPE=image/jpeg:https://www.downtowncaloundra.com.au/wp-content/uploads/2020/11/Desktop-Event-Page-Takeover-1920-x-900.jpg
END:VEVENT
END:VCALENDAR